BEGIN:VCALENDAR
VERSION:2.0
PRODID:-//CYBRBEATZ - ECPv6.15.20//NONSGML v1.0//EN
CALSCALE:GREGORIAN
METHOD:PUBLISH
X-ORIGINAL-URL:https://cybrbeatz.com
X-WR-CALDESC:Events for CYBRBEATZ
REFRESH-INTERVAL;VALUE=DURATION:PT1H
X-Robots-Tag:noindex
X-PUBLISHED-TTL:PT1H
BEGIN:VTIMEZONE
TZID:UTC
BEGIN:STANDARD
TZOFFSETFROM:+0000
TZOFFSETTO:+0000
TZNAME:UTC
DTSTART:20240101T000000
END:STANDARD
END:VTIMEZONE
BEGIN:VEVENT
DTSTART;TZID=UTC:20251115T000000
DTEND;TZID=UTC:20251115T235959
DTSTAMP:20260423T194817
CREATED:20251009T023521Z
LAST-MODIFIED:20251031T212216Z
UID:1407-1763164800-1763251199@cybrbeatz.com
SUMMARY:CYBERFEST 2025 SPONSOR SIGN UP
DESCRIPTION:Become a CYBERSPONSOR\n2nd Annual Ultimate Cybertruck Party • Clearwater\, Florida\nGo to https://cyberfestfurious.com for all updates. \nOne of the largest gatherings of Cybertrucks ever is rolling into paradise. This isn’t just a car show—it’s a movement. From high-octane racing to a galaxy of glowing Cybertrucks lighting up the night\, your brand will be right at the center of the action. Partner with us to make your company unforgettable at Florida’s most electrifying Tesla + motorsports weekend. \nMain Sponsor Sold Out \nSignature Sponsor $2500 \n(Signature Sponsor Per Specific Agreement for Each Brand) \n\nStage Sponsor — $1\,000 \n(No Wrap/PPF/Tint Shops) \n\n\nStage Level: Goes all-in with 50\,000+ local impressions\, featured reels\, and video mentions across our channels.\nThe premier level for brands that want to own the moment.\n› Logo placement across banners\, flyers\, website\, and digital media\n› Custom Cybertruck light show shoutout with your brand name during the spectacle\n› Prime space at Showtime Speedway\n› Headline sponsor recognition throughout the event\n› Donation featured prominently during the live CyberCharity Auction \n\nFoundation Sponsor — $500\n(No Wrap/PPF/Tint Shops) \n› Beast Level: Reaches about 25\,000 local Tesla owners across Facebook and Instagram to announce your participation \nFor brands ready to turn heads on and off the track. \n› 10×10 space in the CyberShow \n› Logo featured online and in print \n› Pre-event shoutouts and live recognition during the show \n› Products or services featured in the CyberCharity Auction lineup \n\nBeast Sponsor — $250\n› Cyber Level: Reaches about 5\,000 local Tesla owners across Facebook and Instagram to announce  \nPerfect for local businesses and startups joining the Cyber movement. \n› Feaature Vehicle in CyberShow \n› Logo and link on the official event website \n› Recognition throughout the weekend \n› Contribution highlighted in the CyberCharity Auction \n \n\nWhy Sponsor› Your dollars drive promotion through targeted digital campaigns that amplify your brand.› Your donation drives real impact by raising funds for families through Whip Pediatric Cancer.› Direct access to hundreds of Cybertruck and Tesla owners\, plus motorsports fans.› Extended reach through livestreams\, social blasts\, and media coverage.› Alignment with innovation\, speed\, and community power.\n\nSecure Your Spot Below\nSponsorship opportunities are limited and move fast—just like the trucks. Join us in Clearwater paradise for the 2nd Annual Ultimate Cybertruck Party\, where your brand meets the future in the most unforgettable way. \n 
URL:https://cybrbeatz.com/event/cyberfest-2025-sponsor-sign-up/
LOCATION:Showtime Speedway Pinellas Park\, 4398 126th Ave N\, Clearwater\, Florida\, 33762
ORGANIZER;CN="CYBRBEATZ":MAILTO:info@cybrbeatz.com
END:VEVENT
BEGIN:VEVENT
DTSTART;TZID=UTC:20251115T203000
DTEND;TZID=UTC:20251116T230000
DTSTAMP:20260423T194817
CREATED:20250925T235534Z
LAST-MODIFIED:20251116T005810Z
UID:1359-1763238600-1763334000@cybrbeatz.com
SUMMARY:CYBERFEST & FURIOUS TICKETS
DESCRIPTION:  \n🔗 Visit cyberfestfurious.com for the full agenda and live updates. \n🎟 TICKET OPTIONS \n$25 – Cybertruck\, Tesla\, and Public General Admission (Per Person) \nAccess to show and racing areas for spectating \n$55 – Cybertruck Entry + On-Track Parking \nIncludes track parking during the Light Show + full event access and an exclusive Collector USB Light Show + Display Case. \n$35 – CyberRacing (Pay on Site Cash Only) \nEligibility for ⅛-mile drag and speedway racing. A \n$85 – Full Package \nIncludes all access\, racing eligibility\, and an exclusive Collector USB Light Show + Display Case. \n($25 +1 Required for Passengers/Attendees) \n💵 Tickets available at the gate (CASH ONLY). \nBring cash if purchasing your ticket at the door — card payments will not be accepted. \n🏁 MAIN EVENT SCHEDULE (ALL CYBERTRUCKS HAVE ACCESS INCLUDED IN GENERAL TO ‘OFF-ROAD’) \n⚡ 5:30 PM — Gates Open \n⚡ 5:30 PM — Kid CyberZone & Modified Tesla Show Opens \n🕖 7:00 PM — Live CyberCharity Auction \nExclusive Tesla & Cybertruck collectibles to benefit Whip Pediatric Cancer. \n⚡ 7:30 PM – 10:00 PM — Cybertruck Drag Racing \nTimed ⅛-mile races in the Cybertruck Bracket and Plaid Bracket\, followed by awards for fastest and quickest launches. \n⚡ 8:00 PM – 9:00 PM — CyberDrift Sudden Elimination Races One-on-one elimination battles on the Circle-8 track. Winner takes all. + Model 3 Drifting! Cybertruck Driving Experience on the speedway in your own CT for those who don’t want to race. \n⚡ 10:00 PM – 10:30 PM 100+ Cybertrucks unite for a record-breaking\, synchronized light performance. \n📝 IMPORTANT DETAILS \n✅ RSVP early to guarantee Cybertruck parking on the speedway. \n✅ Racing and experiences are open to all — including select GAS challengers. \n✅ Gates open at 5:30 PM\, close at 11:00 PM. \n✅ General Entry attendees have full access to watch all races\, including the lightshow!
URL:https://cybrbeatz.com/event/cyberfest-furious/
LOCATION:Showtime Speedway Pinellas Park\, 4398 126th Ave N\, Clearwater\, Florida\, 33762
ATTACH;FMTTYPE=image/png:https://cybrbeatz.com/wp-content/uploads/2025/08/tesla-bay-tv-official-light-show-by-cybrbeatz-scaled-e1754750325947.png
END:VEVENT
END:VCALENDAR