BEGIN:VCALENDAR
VERSION:2.0
PRODID:-//CYBRBEATZ - ECPv6.15.20//NONSGML v1.0//EN
CALSCALE:GREGORIAN
METHOD:PUBLISH
X-WR-CALNAME:CYBRBEATZ
X-ORIGINAL-URL:https://cybrbeatz.com
X-WR-CALDESC:Events for CYBRBEATZ
REFRESH-INTERVAL;VALUE=DURATION:PT1H
X-Robots-Tag:noindex
X-PUBLISHED-TTL:PT1H
BEGIN:VTIMEZONE
TZID:America/New_York
BEGIN:DAYLIGHT
TZOFFSETFROM:-0500
TZOFFSETTO:-0400
TZNAME:EDT
DTSTART:20250309T070000
END:DAYLIGHT
BEGIN:STANDARD
TZOFFSETFROM:-0400
TZOFFSETTO:-0500
TZNAME:EST
DTSTART:20251102T060000
END:STANDARD
BEGIN:DAYLIGHT
TZOFFSETFROM:-0500
TZOFFSETTO:-0400
TZNAME:EDT
DTSTART:20260308T070000
END:DAYLIGHT
BEGIN:STANDARD
TZOFFSETFROM:-0400
TZOFFSETTO:-0500
TZNAME:EST
DTSTART:20261101T060000
END:STANDARD
BEGIN:DAYLIGHT
TZOFFSETFROM:-0500
TZOFFSETTO:-0400
TZNAME:EDT
DTSTART:20270314T070000
END:DAYLIGHT
BEGIN:STANDARD
TZOFFSETFROM:-0400
TZOFFSETTO:-0500
TZNAME:EST
DTSTART:20271107T060000
END:STANDARD
END:VTIMEZONE
BEGIN:VTIMEZONE
TZID:UTC
BEGIN:STANDARD
TZOFFSETFROM:+0000
TZOFFSETTO:+0000
TZNAME:UTC
DTSTART:20250101T000000
END:STANDARD
END:VTIMEZONE
BEGIN:VEVENT
DTSTART;TZID=America/New_York:20260418T064200
DTEND;TZID=America/New_York:20260418T190000
DTSTAMP:20260423T151322
CREATED:20251213T213841Z
LAST-MODIFIED:20260413T165021Z
UID:2149-1776494520-1776538800@cybrbeatz.com
SUMMARY:SpaceXCyber Rally + Star Wars Tesla Light Show
DESCRIPTION:The SpaceXCyber Rally begins at 6:30 AM and goes across FL where we will launch a sunrise convoy toward Florida’s most iconic destination. \n\n\n\n\nA sunrise convoy across Florida.\nEnding at the edge of space. \n \nLaunch Point\n6:30 AM — Brandon\, FL\nTesla Supercharger Brandon \nJoin From Any Checkpoint\nA — Brandon\nPull Out: 6:42 AM \nB — Celebration\nTesla Supercharger Celebration\nPull Out: 8:05 AM \nC — Titusville\nTesla Supercharger Titusville\nPull Out: 9:45 AM \nFinal Destination\nKennedy Space Center Visitor Complex \nConvoy arrival.\nFormation staging.\nPhotos and video capture before entry. \nParking access approx. $15\n(You do not need to enter the park to participate.) \nDay Flow\nSome will remain for KSC.\nOthers will move to Merritt Island for the Tesla Owners of Florida event.\n(Separate ticket.) \nWhat You Receive\nOfficial rally decal\nStarship Collector Key\nEarly access to a new Star Wars-inspired CYBRBEATZ release \nUnlocked at sunset. \nNight Sequence — Titusville\n \n6:30 PM\nCYBER WARZ\nLightsaber Tesla Sync \nLocation released after signup\n(Near Courtyard by Marriott Titusville) \n8:45 PM\nAfter gathering — Space Bar \nStay Nearby\nJetty Park Campground\nCourtyard by Marriott Titusville — “Space Bar” \nFull route and final instructions will be sent one week prior. \nJoin the convoy.\nArrive with intent.\nLeave with the archive. \nGET YOUR PASS.
URL:https://cybrbeatz.com/event/kennedy-space-center-tesla-rally-5-0/
LOCATION:Florida
CATEGORIES:LIVE Tesla Light Show Release
ATTACH;FMTTYPE=image/jpeg:https://cybrbeatz.com/wp-content/uploads/2025/12/SPACEXTESLARALLY.jpg
ORGANIZER;CN="CYBRBEATZ":MAILTO:info@cybrbeatz.com
END:VEVENT
BEGIN:VEVENT
DTSTART;TZID=America/New_York:20260425T193000
DTEND;TZID=America/New_York:20260425T213000
DTSTAMP:20260423T151322
CREATED:20260408T152446Z
LAST-MODIFIED:20260423T151345Z
UID:3620-1777145400-1777152600@cybrbeatz.com
SUMMARY:Tesla Light Sync @ Disney World Fireworks
DESCRIPTION:CYBRBEATZ™ Live Event\nTesla Light Sync @ Disney World Fireworks\n\n          Saturday\, April 25\, CYBRBEATZ returns to Disney for another live Tesla light sync timed to the fireworks.\n          After hosting the record-setting Disney fireworks sync that became known as the longest Tesla fireworks light show we had ever created\, we are doing it again.\n         \n\n\n            Date\n            Saturday\, April 25\n          \n\n            Format\n            Live Tesla light sync\n          \n\n            Location\n            Disney World area · Orlando\, FL\n          \n\n            Hosted by\n            CYBRBEATZ\n          \n \n \n \n\n\n\nThe return\n\n            Earlier this year\, CYBRBEATZ hosted a Disney fireworks Tesla light sync that became one of the defining moments in our archive.\n            The show ran with exact timing against the fireworks and became known for its record-setting scale\, length\, and precision.\n           \n\n            Now we are returning for another live release.\n            This is not a replay night.\n            This is another chance to experience a Tesla light sync at Disney in real time\, with the crowd\, the soundtrack\, the skyline\, and the fireworks all hitting at once.\n           \n\n            If you were there before\, you already know what this feels like.\n            If you missed it\, this is the moment to fix that.\n          \n \n \n\n\nWhat to expect\n\n\n\n                Live synchronized finale\n                A Tesla light performance timed to the Disney fireworks atmosphere in one of the most iconic settings we do all year.\n              \n\n\n\n                High-energy owner turnout\n                A strong Tesla crowd\, cinematic staging\, and the kind of live reaction that never translates the same way online.\n              \n\n\n\n                New event-night atmosphere\n                Another live CYBRBEATZ release moment built for the people who show up\, not just the people who see clips later.\n              \n\n\n\n                Collector-level memory\n                The kind of night that turns into an archive piece people talk about after the lot clears.\n              \n\n\n \n\n\nWhy this one matters\n\n            Disney is already one of the most emotional backdrops we work with.\n            Add a synchronized Tesla fleet\, fireworks timing\, and a CYBRBEATZ crowd\, and it becomes something bigger than a meetup.\n           \n\n            This event carries the weight of the last record-setting Disney sync while still standing as its own night.\n            New crowd. New energy. New release moment.\n           \n \n \n\n\nWho should come\n\n\n\n                Tesla owners\n                If you want to be part of the live sync instead of watching from the outside\, this is your lane.\n              \n\n\n\n                CYBRBEATZ followers\n                If you have seen the archive and wanted to feel one of these nights in person\, this is one of the strongest entries all season.\n              \n\n\n\n                Disney-area spectators\n                If you love fireworks\, cinematic timing\, and rare live car culture moments\, this is not a normal Saturday night.\n              \n\n\n \n \n\n      Tesla Light Sync @ Disney World Fireworks\n      \n        Saturday\, April 25. Another live CYBRBEATZ Disney sync. Built for the people who show up. If the last one set the mark\, this one is the return.
URL:https://cybrbeatz.com/event/tesla-light-sync-disney-world-fireworks/
LOCATION:Windermere\, FL Tesla Superchargers\, Old Brick Rd #6506\, Windermere\, Florida\, 34786
ATTACH;FMTTYPE=image/jpeg:https://cybrbeatz.com/wp-content/uploads/2026/01/CYBREBEATZ-DISNEY-DROP.jpg
ORGANIZER;CN="CYBRBEATZ":MAILTO:info@cybrbeatz.com
END:VEVENT
BEGIN:VEVENT
DTSTART;TZID=America/New_York:20260502T180000
DTEND;TZID=America/New_York:20260502T200000
DTSTAMP:20260423T151322
CREATED:20260310T205139Z
LAST-MODIFIED:20260423T145156Z
UID:3402-1777744800-1777752000@cybrbeatz.com
SUMMARY:Miami Cybertruck Sync - F1 Weekend
DESCRIPTION:Limited Access • Miami\, Florida\nMiami ViceCybertruck Night\n\n        A limited-access gathering of Cybertrucks and Teslas along the Miami coastline\, ending in a synchronized night drop designed to be seen in person.\n       \n\n\n    \n\n\nThe Night\n\n\n        This is not a casual meetup. It is a controlled coastal light sync dropped on a single nighttime release.\n       \n\n        Expect a sunset gathering\, a unified arrival\, and a clean visual formation as the city shifts from daylight into neon. Key Biscayne to Miami Design District. F1 Weekend.\n       \n\n        The final drop happens after dark. Those who are present will receive private access to the release afterward.\n       \n \n \n\nEvent Details\n\n\n        Location\n        Miami Marine Stadium\, Florida – Key Biscayne\n      \n\n        Access\n        Free • Limited Approval Required\n      \n\n        Vehicle Parking\n        Cybertrucks first row\, S3XY Teslas second\n      \n\n        Timing\n        Sunset build → night formation → synchronized drop\n      \n\n        Access After\n        Private release access for attendees\n      \n \n \n\n\n\nWhat To Know\n\nRSVP is required. Access is limited (no fee) and approvals may close once the formation is full.\nExact arrival instructions will be sent only to approved attendees.\nAttendees will receive private access to the release after the event. This access is not distributed publicly.\nVehicles are expected to arrive clean and on time. Late arrivals may be placed outside the main formation.\nThis night is being produced as a visual experience first. Respect the flow\, follow direction\, and protect the moment.\n\n\n\n(Releases 05.02.2026 ‘In the Air Tonight’ CyberRemix; + Electric Vice Sync)\nhttps://cybrbeatz.com/wp-content/uploads/2026/03/electric-vice.mp4\n(Passes below are for Tesla or Cybertruck owners and family only. Access is limited.)
URL:https://cybrbeatz.com/event/miami-cybertruck-rally/
LOCATION:Miami Marine Stadium
ATTACH;FMTTYPE=image/jpeg:https://cybrbeatz.com/wp-content/uploads/2026/03/miami-vice-cyber-sync.jpg
ORGANIZER;CN="CYBRBEATZ":MAILTO:info@cybrbeatz.com
END:VEVENT
BEGIN:VEVENT
DTSTART;TZID=UTC:20260523T000000
DTEND;TZID=UTC:20260523T235959
DTSTAMP:20260423T151322
CREATED:20250709T170600Z
LAST-MODIFIED:20260423T154514Z
UID:224-1779494400-1779580799@cybrbeatz.com
SUMMARY:Nikola Tesla History Tour by Grok & Light Show - Niagara Falls\, NY
DESCRIPTION:May 23 • Niagara Falls\n2nd Annual Nikola Tesla Tour + Niagara Falls Light Show\n\n      An afternoon cruise through one of the most iconic places in America\, followed by a sunset Tesla light show across the island with Niagara Falls glowing in the distance.\n     \n \n\n\nTour Start\n3:00 PM\nCruise begins in the afternoon.\n \n\nLight Show\nSunset\nThe main moment happens as day turns to night.\n \n\nAccess\nTesla Owners\nThis gathering is reserved for Tesla owners only.\n \n \n\nWhat to Expect\n\n      The day starts at 3PM with the Nikola Tesla Tour as Teslas cruise together through the park. The tour will be provided by Grok\, creating a moving experience that connects the setting\, the history\, and the energy behind the moment.\n     \n\n      As the afternoon fades\, attention shifts to the far side of the island. At sunset\, the light show begins with Niagara Falls glowing in the distance behind the lineup. This is the payoff. Cinematic. Electric. One night only.\n     \n\n      This is not a public open call. It is a private Tesla owner gathering built for those who want to be part of the experience in person.\n     \n \n\n\nThe Afternoon\n\n        Rolling cruise\, Nikola Tesla history\, and a build-up that lets the location do the work before the lights ever begin.\n       \n \n\nThe Sunset Moment\n\n        A synchronized Tesla light show with the falls set deep in the background\, giving the entire scene scale and atmosphere.\n       \n \n\nWho This Is For\n\n        Tesla owners who want to take part in a rare gathering built around presence\, precision\, and the final moment at sunset.
URL:https://cybrbeatz.com/event/2nd-annual-niagara-falls-tesla-rally-camp/
LOCATION:Florida
CATEGORIES:LIVE Tesla Light Show Release
ATTACH;FMTTYPE=image/png:https://cybrbeatz.com/wp-content/uploads/2025/07/nikola-tesla-tour.png
ORGANIZER;CN="CYBRBEATZ":MAILTO:info@cybrbeatz.com
END:VEVENT
BEGIN:VEVENT
DTSTART;TZID=America/New_York:20260627T080000
DTEND;TZID=America/New_York:20260627T200000
DTSTAMP:20260423T151322
CREATED:20260328T155923Z
LAST-MODIFIED:20260422T125509Z
UID:3476-1782547200-1782590400@cybrbeatz.com
SUMMARY:CYBERADO OFF-ROAD ADVENTURE & Cybertruck Light Sync USA250
DESCRIPTION:CYBERADO\nJune 27\, 2026 \n \n\n9AM\n1ST RALLY POINT\nManitou Springs\nEngines silent. Angles lined up.\nThen we move.\n \nThrough canyon roads.\nStop for drone and photo ops.\n \n\nBy afternoon\, the terrain changes.\nSand replaces rock.\n \n2ND RALLY POINT\nGreat National Sand Dunes\nThis is where we settle.\nDrone + Videos.\n\n  \n\nThen we head for a short drive to private ground.\nOFF-ROAD CYBER ADVENTURE\nMountain Home Reservoir — San Luis Valley\nCYBRBEATZ campground.\nOpen sky. Water. Silence.\nNo crowd. Just those who made it.\nSuperchargers nearby — Alamosa.\n\n      \n    \n\n      \n    \n \n\n      \n    \n\n$40 Rally Pack\n\n10″ Collector Decal\nUltimate Road Rally App Access\nUSA250 Cybertruck Light Show\nPrivate Campground Access — Mountain Home Reservoir
URL:https://cybrbeatz.com/event/cyberado-rally-offroad-adventure/
LOCATION:Cyber Ranch\, Colorado
CATEGORIES:LIVE Tesla Light Show Release
ATTACH;FMTTYPE=image/jpeg:https://cybrbeatz.com/wp-content/uploads/2026/03/cyberado-cybertruck-only.jpg
ORGANIZER;CN="CYBRBEATZ":MAILTO:info@cybrbeatz.com
END:VEVENT
BEGIN:VEVENT
DTSTART;TZID=America/New_York:20261114T150000
DTEND;TZID=America/New_York:20261114T210000
DTSTAMP:20260423T151322
CREATED:20251208T220301Z
LAST-MODIFIED:20260420T152427Z
UID:2047-1794668400-1794690000@cybrbeatz.com
SUMMARY:CYBERFEST26 The Cybertruck Festival
DESCRIPTION:CYBERFEST & FURIOUS 2026 — Early Bird Tickets Now Live!\nSaturday\, November 14\, 2026 • Showtime Speedway • Clearwater\, FL\nThe Cybertruck Festival returns—bigger\, brighter\, louder\, and more over the top than 2025. This year is built purely for Cybertruck Culture with expanded off-roading\, action zones\, and a neon-drenched DJNEO power set. \nRSVP & Rally Positioning\nThere is a 2:00 PM pre-party to film CYBERROLLERs rally content as the convoy enters the speedway. Your rally position is determined by your sign-up order. RSVP early to lock a front-of-pack slot and maximum camera time. \nSchedule Highlight Changes for 2026\n2:00 PM: CyberSnacks at Sponsor location and CYBERROLLERs rally filming with drones and media capturing the entrance sequence. \n4:00 PM: Gates open for an expanded Cybertruck off-road experience featuring more terrain\, bigger obstacles\, steeper hill climbs\, and dedicated articulation zones. Due to timing\, this was missed in 2025 so we’re bringing it back with vengeance. \nSunset Kickoff: A one-hour DJNEO Neon-Powered Show lights up the center of the speedway—exhilarating jams and immersive neons to ignite the party. Your Cybertruck will be parked on the track – lightbar facing the center of the circle to create a club atmosphere! There will be glow sticks for the kids and it’s recommended that you can bring your own as well! \nEvening: Open drag sessions\, Cybertruck torque face-offs\, drift exhibitions\, and crowd-favorite skill challenges.
URL:https://cybrbeatz.com/event/cyberfest-furious-2026/
LOCATION:Showtime Speedway Pinellas Park\, 4398 126th Ave N\, Clearwater\, Florida\, 33762
ATTACH;FMTTYPE=image/jpeg:https://cybrbeatz.com/wp-content/uploads/2025/12/cyberfest-furious-vortex.jpg
ORGANIZER;CN="CYBRBEATZ":MAILTO:info@cybrbeatz.com
END:VEVENT
END:VCALENDAR