BEGIN:VCALENDAR
VERSION:2.0
PRODID:-//CYBRBEATZ - ECPv6.15.20//NONSGML v1.0//EN
CALSCALE:GREGORIAN
METHOD:PUBLISH
X-ORIGINAL-URL:https://cybrbeatz.com
X-WR-CALDESC:Events for CYBRBEATZ
REFRESH-INTERVAL;VALUE=DURATION:PT1H
X-Robots-Tag:noindex
X-PUBLISHED-TTL:PT1H
BEGIN:VTIMEZONE
TZID:America/New_York
BEGIN:DAYLIGHT
TZOFFSETFROM:-0500
TZOFFSETTO:-0400
TZNAME:EDT
DTSTART:20250309T070000
END:DAYLIGHT
BEGIN:STANDARD
TZOFFSETFROM:-0400
TZOFFSETTO:-0500
TZNAME:EST
DTSTART:20251102T060000
END:STANDARD
BEGIN:DAYLIGHT
TZOFFSETFROM:-0500
TZOFFSETTO:-0400
TZNAME:EDT
DTSTART:20260308T070000
END:DAYLIGHT
BEGIN:STANDARD
TZOFFSETFROM:-0400
TZOFFSETTO:-0500
TZNAME:EST
DTSTART:20261101T060000
END:STANDARD
BEGIN:DAYLIGHT
TZOFFSETFROM:-0500
TZOFFSETTO:-0400
TZNAME:EDT
DTSTART:20270314T070000
END:DAYLIGHT
BEGIN:STANDARD
TZOFFSETFROM:-0400
TZOFFSETTO:-0500
TZNAME:EST
DTSTART:20271107T060000
END:STANDARD
END:VTIMEZONE
BEGIN:VEVENT
DTSTART;TZID=America/New_York:20260418T064200
DTEND;TZID=America/New_York:20260418T190000
DTSTAMP:20260423T153804
CREATED:20251213T213841Z
LAST-MODIFIED:20260413T165021Z
UID:2149-1776494520-1776538800@cybrbeatz.com
SUMMARY:SpaceXCyber Rally + Star Wars Tesla Light Show
DESCRIPTION:The SpaceXCyber Rally begins at 6:30 AM and goes across FL where we will launch a sunrise convoy toward Florida’s most iconic destination. \n\n\n\n\nA sunrise convoy across Florida.\nEnding at the edge of space. \n \nLaunch Point\n6:30 AM — Brandon\, FL\nTesla Supercharger Brandon \nJoin From Any Checkpoint\nA — Brandon\nPull Out: 6:42 AM \nB — Celebration\nTesla Supercharger Celebration\nPull Out: 8:05 AM \nC — Titusville\nTesla Supercharger Titusville\nPull Out: 9:45 AM \nFinal Destination\nKennedy Space Center Visitor Complex \nConvoy arrival.\nFormation staging.\nPhotos and video capture before entry. \nParking access approx. $15\n(You do not need to enter the park to participate.) \nDay Flow\nSome will remain for KSC.\nOthers will move to Merritt Island for the Tesla Owners of Florida event.\n(Separate ticket.) \nWhat You Receive\nOfficial rally decal\nStarship Collector Key\nEarly access to a new Star Wars-inspired CYBRBEATZ release \nUnlocked at sunset. \nNight Sequence — Titusville\n \n6:30 PM\nCYBER WARZ\nLightsaber Tesla Sync \nLocation released after signup\n(Near Courtyard by Marriott Titusville) \n8:45 PM\nAfter gathering — Space Bar \nStay Nearby\nJetty Park Campground\nCourtyard by Marriott Titusville — “Space Bar” \nFull route and final instructions will be sent one week prior. \nJoin the convoy.\nArrive with intent.\nLeave with the archive. \nGET YOUR PASS.
URL:https://cybrbeatz.com/event/kennedy-space-center-tesla-rally-5-0/
CATEGORIES:LIVE Tesla Light Show Release
ATTACH;FMTTYPE=image/jpeg:https://cybrbeatz.com/wp-content/uploads/2025/12/SPACEXTESLARALLY.jpg
ORGANIZER;CN="CYBRBEATZ":MAILTO:info@cybrbeatz.com
END:VEVENT
BEGIN:VEVENT
DTSTART;TZID=America/New_York:20260328T080000
DTEND;TZID=America/New_York:20260328T190000
DTSTAMP:20260423T153804
CREATED:20260204T001310Z
LAST-MODIFIED:20260223T124417Z
UID:3160-1774684800-1774724400@cybrbeatz.com
SUMMARY:Invitational: TESLA SEBRING SIX
DESCRIPTION:https://cybrbeatz.com/wp-content/uploads/2026/02/Blake-Fuller-Racing-Overview.mp3(In this episode\, Tesla Bay TV Creator\, J of CYBRBEATZ\, and Blake Fuller\, professional EV racer\, speak about the upcoming event in Florida March 28th\, 2026 Sebring Invitational.)\n \n\n\n     \n\n\n        INVITATIONAL\n      \nTESLA // SEBRING SIX\n\n        One track. One day. One team.\n       \n\n        Sebring Six is a closed team of six invited Tesla drivers assembled for a single\,\n        high-focus track session at Sebring International Raceway. \n\n     \n\n\nDate\nSaturday • March 28\n \n\nFormat\nInvitation-only • Team-based instruction\n \n\nTrack\nSebring International Raceway\n \n \n     \n\n       \n\n\n\nThe Team\nSix drivers. One operating unit.\n \n\n \n\n\n            Overview\n            \n          \n\n            Sebring Six is a closed team of six Tesla drivers selected to operate together on track.\n            Every session is shared. Every debrief is collective.\n           \n\n            This format prioritizes trust\, rhythm\, and progression.\n            One team. One pace. One objective.\n           \n\n\n       \n\n\n\nOn-Track Sessions\nPrecision over volume.\n \n\n \n\n\n            Overview\n            \n          \n\nStructured team driving sessions\nEV-specific braking and cornering focus\nThermal control and repeatable pace\nLive feedback between rotations\n\n\n\n       \n\n\n\nInstruction\nLed by a record holder.\n \n\n \n\n\n            Overview\n            \n          \n\n            Instruction is led by Blake Fuller\, one of the most accomplished\n            electric vehicle racers in the world and a multi-time EV record holder at\n            the Pikes Peak International Hill Climb.\n           \n\n            Blake works directly with the Sebring Six team on braking zones\,\n            corner entry\, balance\, and high-speed EV dynamics — grounded in real competition.\n           \n\n\n       \n\n\n\nAccess\nInvitation required.\n \n \n\n\n            Important\n            \n          \n\n           Join our team.\n           \n\n        See you here for the experience of a lifetime.\n           \n\n\n \n\n  \n    Sign Up for TEAM ACCESS
URL:https://cybrbeatz.com/event/invitational-tesla-sebring-six/
LOCATION:Sebring International Raceway\, 113 Midway Dr\, Sebring\, FL\, 33870
CATEGORIES:LIVE Tesla Light Show Release
ATTACH;FMTTYPE=image/jpeg:https://cybrbeatz.com/wp-content/uploads/2026/02/tesla-sebring-six.jpg
ORGANIZER;CN="CYBRBEATZ":MAILTO:info@cybrbeatz.com
END:VEVENT
BEGIN:VEVENT
DTSTART;TZID=America/New_York:20260307T190000
DTEND;TZID=America/New_York:20260307T213000
DTSTAMP:20260423T153804
CREATED:20260114T230145Z
LAST-MODIFIED:20260306T000119Z
UID:2849-1772910000-1772919000@cybrbeatz.com
SUMMARY:Happily Ever After: The Disney Fireworks Tesla Sync
DESCRIPTION:SATURDAY NIGHT ENCORE\n\nTRON intro. Then a full-length alignment with Disney’s Happily Ever After fireworks window.\nSimilar structure. Enhanced with additional CYBRBEATZ effects running in your Tesla. \n\n \n\nThe Moment\nA coordinated Saturday night alignment near Magic Kingdom.\nFormation staging. Timing discipline. One continuous run from TRON into the fireworks score. \nThis will not be repeated.\nNo full footage will be released.\nThe archive is the only record. \n\nAbout the Sync\nThis is a live alignment to a real-world fireworks show. Exact synchronization cannot be guaranteed.\nStart times\, pacing\, wind\, placement\, and audio conditions all affect perfection. \nWhen it lines up\, it’s seamless. When it doesn’t\, it still hits. \n\nTiming\n\nDate: Saturday • March 7\nTesla Superchargers Pre-meet: ~7:00 PM\nFireworks Sync: ~9:00 PM\nhttps://www.eventbrite.com/e/disney-tesla-light-show-happily-ever-after-firework-sync-tickets-1984465013275
URL:https://cybrbeatz.com/event/disney-fireworks-tesla-synchronization/
CATEGORIES:LIVE Tesla Light Show Release
ATTACH;FMTTYPE=image/jpeg:https://cybrbeatz.com/wp-content/uploads/2026/01/disney-tron-happily-ever-after-tesla-1-scaled.jpeg
ORGANIZER;CN="CYBRBEATZ":MAILTO:info@cybrbeatz.com
END:VEVENT
BEGIN:VEVENT
DTSTART;TZID=America/New_York:20260228T173000
DTEND;TZID=America/New_York:20260228T233000
DTSTAMP:20260423T153804
CREATED:20260104T152223Z
LAST-MODIFIED:20260213T225523Z
UID:2495-1772299800-1772321400@cybrbeatz.com
SUMMARY:TESLADEGA DRAG RACING\, DRIFTING + LIGHT SYNC ON THE SPEEDWAY
DESCRIPTION:TESLADEGA NIGHTS\n      \nTESLADEGA LIGHTS\nOne track. One night. Drag runs\, drift sessions\, build culture — then a closing on-track moment. \nDownload TESLADEGA Intro Light Show and send your video to info@cybrbeatz.com or upload here. \nA driver-first electric motorsports night built around participation. You’ll run the strip\, watch the wall\, meet the builds\, and end inside a speedway finale produced by CYBRBEATZ. \n\n\n\nTime\nSaturday • 5:30 PM – 11:30 PM\n \n\nNote\nExpect long lines. Arrive early.\n \n\nEnergy\nNeon glow • Orange / Red / Yellow\n \n \n\n\n\n\nRacing & Driving\nBuilt for seat time.\n \n \n\n\n            Overview\n          \nThis isn’t a parking lot meet. It’s motion. If you want to run\, we make it simple. If you want to watch\, you’re in the right place. \n\nOpen drag lanes for Tesla owners\nHead-to-head runs vs. classic muscle\nDrift sessions on the speedway\nStaging help for first-timers\n\nStaff keeps the flow tight — staging\, safety\, and clean rotations. You show up ready. The track does the rest. \n\n\n\n\n\nMods\, Builds & Vendors\nThe build culture lives here.\n \n \n\n\n            Overview\n          \nPerformance setups. Visual builds. Wheels\, suspension\, stance\, fitment. The cars people talk about in group chats — parked in one place\, in real light. \nBring your questions. Bring your camera. Keep it clean. This is where the next build ideas get stolen. \n\n\n\n\n\nPricing & Entry\nCash at the door unless noted.\n \n \n\n\n            Rates\n          \n\n\n\nGeneral Entry\nPer person\n \n$20\n \n\n\nUnlimited Drag Racing\nBring a helmet. Limited helmets available on-site.\n \n$15\n \n\n\nDrifting Session\nHelmet required.\n \n$50\n \n \nAll fees are cash at the door\, unless otherwise noted. \nCollector Key includes a pre-loaded USB — no USB required. \n\n\n\n\n\nCollector Key — On-Track Finale Access\nParking + artifact + pre-loaded USB + grand finale release.\n \n$50 / vehicle\n \n\n\n            What it includes\n          \n\nOn-speedway parking for the synchronized closing moment\nTESLADEGA Starship Collector Artifact\nPre-loaded USB included — no USB required\n55+ Tesla light shows already loaded\nGrand finale release debuting that night (center-grid moment)\nPlacement assigned by staff inside the arena\n\nArrive. Park. You’re ready. \nSpace is limited. Placement is assigned by staff. \n\n\n\n\n\nNight Atmosphere\nThe track shifts after dark.\n \n \n\n\n            Overview\n          \nOrange. Red. Yellow. Clean glow. The whole facility becomes one palette. \nBring glow gear if you’ve got it. Keep the vibe simple. Let the cars carry the light. \n\n\n\n\n\nThe Closing Moment\nOn the speedway. Produced by CYBRBEATZ.\n \n \n\n\n            Overview\n          \nThe night ends on-track. Cars placed on the oval. The speedway becomes an arena. \nThis will not be repeated. No full footage will be released. The archive is the only record. \n\n\n\n\n\nWhy It’s Different\nParticipation + a final on-track close.\n \n \n\n\n            Overview\n          \nYou don’t just watch. You run. You drift. You park on the oval for the close. \nOne night. One track. Then it’s gone.
URL:https://cybrbeatz.com/event/tesladega-lights/
LOCATION:Showtime Speedway Pinellas Park\, 4398 126th Ave N\, Clearwater\, Florida\, 33762
CATEGORIES:LIVE Tesla Light Show Release
ATTACH;FMTTYPE=image/png:https://cybrbeatz.com/wp-content/uploads/2026/01/ED00EF0A-92D8-4A48-A82C-A9DCE0B92F5E.png
ORGANIZER;CN="CYBRBEATZ":MAILTO:info@cybrbeatz.com
END:VEVENT
BEGIN:VEVENT
DTSTART;TZID=America/New_York:20260228T120000
DTEND;TZID=America/New_York:20260228T160000
DTSTAMP:20260423T153804
CREATED:20260114T142036Z
LAST-MODIFIED:20260213T223220Z
UID:2819-1772280000-1772294400@cybrbeatz.com
SUMMARY:TESLA EXPO: TAMPA BAY
DESCRIPTION:TAMPA BAY TESLA EXPO\nSaturday • Win! Derby Lanes\, St. Petersburg\, FL \nJoin us for a curated Tesla gathering — custom builds\, brands\, and community. \n\n \n\nTime: 12:00 PM – 4:00 PM \nLocation: Win! Derby Lanes\n10490 Gandy Blvd N\, St. Petersburg\, FL 33702 \nAccess: Free • RSVP recommended \n\n \n\nAfter Expo: 4:00 PM rally drive to TESLADEGA LIGHTS (Ticketed) \n  \n \n\n→ TESLADEGA LIGHTS details & tickets\n \n\n \n\nInterested in sponsoring? \n\n→ Sponsor the Expo\n \n\n \n\nSunday: Invite-only Official Grand Prix Formula 1 Access \n\n \nRSVP for Expo
URL:https://cybrbeatz.com/event/tampa-bay-tesla-expo/
LOCATION:Win! Derby Lanes St. Pete\, 10490 Gandy Boulevard\, St. Petersburg\, Florida\, 33702
CATEGORIES:LIVE Tesla Light Show Release
ATTACH;FMTTYPE=image/jpeg:https://cybrbeatz.com/wp-content/uploads/2026/01/D1BAFBD0-D142-47D0-8AA8-329F3B37EE9F.jpg
ORGANIZER;CN="CYBRBEATZ":MAILTO:info@cybrbeatz.com
END:VEVENT
BEGIN:VEVENT
DTSTART;TZID=America/New_York:20260227T000000
DTEND;TZID=America/New_York:20260301T235959
DTSTAMP:20260423T153804
CREATED:20260104T203351Z
LAST-MODIFIED:20260213T221422Z
UID:2522-1772150400-1772409599@cybrbeatz.com
SUMMARY:TESLALEGA EXPO WEEKEND SPONSORSHIP
DESCRIPTION:
URL:https://cybrbeatz.com/event/tesla-expo-sponsor/
LOCATION:Showtime Speedway Pinellas Park\, 4398 126th Ave N\, Clearwater\, Florida\, 33762
CATEGORIES:LIVE Tesla Light Show Release
ATTACH;FMTTYPE=image/png:https://cybrbeatz.com/wp-content/uploads/2026/01/8C4802A5-7A72-43E1-996D-9A004220B8C6.png
ORGANIZER;CN="CYBRBEATZ":MAILTO:info@cybrbeatz.com
END:VEVENT
BEGIN:VEVENT
DTSTART;TZID=America/New_York:20260125T064500
DTEND;TZID=America/New_York:20260125T080000
DTSTAMP:20260423T153804
CREATED:20260112T222015Z
LAST-MODIFIED:20260119T190300Z
UID:2756-1769323500-1769328000@cybrbeatz.com
SUMMARY:Sunrise Tesla Show: 'Pirates of the Caribbean' Seize Castillo De San Marcos of St. Augustine\, FL
DESCRIPTION:LIVE ACCESS\n    \n\nCYBRBEATZ SUNRISE RELEASE\n\n        Pirates of the Caribbean: Seize Castillo de San Marcos.\n        A one-time sunrise alignment built to feel cinematic — headlights forward\, stone in silhouette\, reflections on water.\n       \n\n\n       \n\nThe Moment\n\n          A controlled sunrise strike at the fort. Dozens of Teslas staged for symmetry.\n          The Castillo in the foreground. The Bridge of Lions pushed back in the distance.\n          The sun rising behind stone.\n         \n\n          This will not be repeated.\n          No full footage will be released.\n          The archive is the only record.\n         \n\nWhy It’s Cinematic\n\n          Golden-hour light. Clean silhouettes. Headlights cutting through haze.\n          Long shadows. Quiet control. Built for presence first.\n         \n \n       \n\n\nTesla Entry Includes\n           \n\n🏴‍☠️ Preferred parking near the CYBRBEATZ production Tesla\n🏴‍☠️ Participation in the live sunrise light sync\n🏴‍☠️ Collector USB (Sunrise Release edition)\n🏴‍☠️ CYBRBEATZ Live Release decal (See below)\n🏴‍☠️ Raffle ticket for giveaways\n \n \n\nWhat To Know\n\n            Arrival window and positioning instructions are sent privately after Pirate Pass RSVP.\n            Positioning locks before sunrise. The sync executes once — no reset\, no delay. Be ready to follow on-site producers instruction.
URL:https://cybrbeatz.com/event/seize-castillo/
LOCATION:Downtown St. Augustine\, Florida\, Castillo De San Marcos\, St. Augustine\, Florida
CATEGORIES:LIVE Tesla Light Show Release
ATTACH;FMTTYPE=image/jpeg:https://cybrbeatz.com/wp-content/uploads/2026/01/pirates-st-augustine-cover.jpg
ORGANIZER;CN="CYBRBEATZ":MAILTO:info@cybrbeatz.com
END:VEVENT
BEGIN:VEVENT
DTSTART;TZID=America/New_York:20260110T183000
DTEND;TZID=America/New_York:20260110T213000
DTSTAMP:20260423T153804
CREATED:20251213T201156Z
LAST-MODIFIED:20260110T160137Z
UID:2139-1768069800-1768080600@cybrbeatz.com
SUMMARY:Disney Fireworks TRON Tesla Grid Sync
DESCRIPTION:TRON Tesla Sync to Disney Fireworks (If you reserve full package\, it will be available on-site at pre-meet and light sync)\n \nOn January 10th\, 2025 a limited group of Tesla owners will gather in Windermere\, Florida for a\nlive release moment—where two custom Tesla sequences debut in real time during a\nsynchronized TRON experience set against the backdrop of Disney fireworks. \nThis is intentionally designed to be experienced in person. \n\nLocation details: Full meet location information is shared after signup. Tesla Owners Pre-Meet is \nTesla Superchargers\nOld Brick Rd #6506 \n\nWindermere\, FL 34786 \n5:30pm – 7pm\n\nFinal Line-Up Parking: There is no fee to park. RSVP Below. \n\n🎆 Fireworks + Live Sync\nDisney’s nighttime fireworks begin around 9:00 PM.\nAs the first burst hits the sky\, Teslas initiate a live TRON-aligned sync\,\nmoving with the fireworks rather than competing with them. \nVehicles\, sound\, and sky operate as a single moment. \n⚡ The Release Collector Pack\nThe night marks the first public unveiling of two newly produced Tesla releases\,\ncreated in collaboration between CYBRBEATZ and TeslaToyBox. \nBoth are built specifically for large-scale synchronization and are revealed live before being run anywhere else. \nRSVP Pack Includes: \n\nTRON Rally Decal\nUSB Plug-N-Play Featuring 40+ Custom Tesla Light Shows\nDisney-Inspired Carrying Case\nVideo Files Access of Production\nRaffle Entry for Giveaways\n\n🌅 Arrival & First-Timers\nA casual pre-meet takes place at sunset at nearby Windermere Superchargers.\nThis allows first-time participants to sync\, connect\, and arrive together. Yes\, you can order food at the light sequence location. \n🚗 The Intent\nThis is not a car meet.\nIt is a release moment built around timing\, restraint\, and shared presence—where Teslas act\nas a collective canvas for something that exists once\, in one place. This moment will be captured by Tesla Bay TV because it will be hard to repeat. \nTesla technology. TRON energy. Disney fireworks.\nJanuary 10th Sync LIVE. \nWe will have THREE EVJect ($299 retail) Giveaways thanks to the generous donation by: \n \nGiveaways Courtesy of Epic Sponsors: TESLA EMBLEMS \nUse Code: TOFL to SAVE 20% in January.
URL:https://cybrbeatz.com/event/tron-tesla-light-show/
CATEGORIES:LIVE Tesla Light Show Release
ATTACH;FMTTYPE=image/webp:https://cybrbeatz.com/wp-content/uploads/2026/01/ED00EF0A-92D8-4A48-A82C-A9DCE0B92F5E.webp
ORGANIZER;CN="CYBRBEATZ":MAILTO:info@cybrbeatz.com
END:VEVENT
END:VCALENDAR