BEGIN:VCALENDAR
VERSION:2.0
PRODID:-//CYBRBEATZ - ECPv6.15.20//NONSGML v1.0//EN
CALSCALE:GREGORIAN
METHOD:PUBLISH
X-WR-CALNAME:CYBRBEATZ
X-ORIGINAL-URL:https://cybrbeatz.com
X-WR-CALDESC:Events for CYBRBEATZ
REFRESH-INTERVAL;VALUE=DURATION:PT1H
X-Robots-Tag:noindex
X-PUBLISHED-TTL:PT1H
BEGIN:VTIMEZONE
TZID:America/New_York
BEGIN:DAYLIGHT
TZOFFSETFROM:-0500
TZOFFSETTO:-0400
TZNAME:EDT
DTSTART:20250309T070000
END:DAYLIGHT
BEGIN:STANDARD
TZOFFSETFROM:-0400
TZOFFSETTO:-0500
TZNAME:EST
DTSTART:20251102T060000
END:STANDARD
BEGIN:DAYLIGHT
TZOFFSETFROM:-0500
TZOFFSETTO:-0400
TZNAME:EDT
DTSTART:20260308T070000
END:DAYLIGHT
BEGIN:STANDARD
TZOFFSETFROM:-0400
TZOFFSETTO:-0500
TZNAME:EST
DTSTART:20261101T060000
END:STANDARD
BEGIN:DAYLIGHT
TZOFFSETFROM:-0500
TZOFFSETTO:-0400
TZNAME:EDT
DTSTART:20270314T070000
END:DAYLIGHT
BEGIN:STANDARD
TZOFFSETFROM:-0400
TZOFFSETTO:-0500
TZNAME:EST
DTSTART:20271107T060000
END:STANDARD
END:VTIMEZONE
BEGIN:VEVENT
DTSTART;TZID=America/New_York:20260110T183000
DTEND;TZID=America/New_York:20260110T213000
DTSTAMP:20260423T182136
CREATED:20251213T201156Z
LAST-MODIFIED:20260110T160137Z
UID:2139-1768069800-1768080600@cybrbeatz.com
SUMMARY:Disney Fireworks TRON Tesla Grid Sync
DESCRIPTION:TRON Tesla Sync to Disney Fireworks (If you reserve full package\, it will be available on-site at pre-meet and light sync)\n \nOn January 10th\, 2025 a limited group of Tesla owners will gather in Windermere\, Florida for a\nlive release moment—where two custom Tesla sequences debut in real time during a\nsynchronized TRON experience set against the backdrop of Disney fireworks. \nThis is intentionally designed to be experienced in person. \n\nLocation details: Full meet location information is shared after signup. Tesla Owners Pre-Meet is \nTesla Superchargers\nOld Brick Rd #6506 \n\nWindermere\, FL 34786 \n5:30pm – 7pm\n\nFinal Line-Up Parking: There is no fee to park. RSVP Below. \n\n🎆 Fireworks + Live Sync\nDisney’s nighttime fireworks begin around 9:00 PM.\nAs the first burst hits the sky\, Teslas initiate a live TRON-aligned sync\,\nmoving with the fireworks rather than competing with them. \nVehicles\, sound\, and sky operate as a single moment. \n⚡ The Release Collector Pack\nThe night marks the first public unveiling of two newly produced Tesla releases\,\ncreated in collaboration between CYBRBEATZ and TeslaToyBox. \nBoth are built specifically for large-scale synchronization and are revealed live before being run anywhere else. \nRSVP Pack Includes: \n\nTRON Rally Decal\nUSB Plug-N-Play Featuring 40+ Custom Tesla Light Shows\nDisney-Inspired Carrying Case\nVideo Files Access of Production\nRaffle Entry for Giveaways\n\n🌅 Arrival & First-Timers\nA casual pre-meet takes place at sunset at nearby Windermere Superchargers.\nThis allows first-time participants to sync\, connect\, and arrive together. Yes\, you can order food at the light sequence location. \n🚗 The Intent\nThis is not a car meet.\nIt is a release moment built around timing\, restraint\, and shared presence—where Teslas act\nas a collective canvas for something that exists once\, in one place. This moment will be captured by Tesla Bay TV because it will be hard to repeat. \nTesla technology. TRON energy. Disney fireworks.\nJanuary 10th Sync LIVE. \nWe will have THREE EVJect ($299 retail) Giveaways thanks to the generous donation by: \n \nGiveaways Courtesy of Epic Sponsors: TESLA EMBLEMS \nUse Code: TOFL to SAVE 20% in January.
URL:https://cybrbeatz.com/event/tron-tesla-light-show/
LOCATION:Florida
CATEGORIES:LIVE Tesla Light Show Release
ATTACH;FMTTYPE=image/webp:https://cybrbeatz.com/wp-content/uploads/2026/01/ED00EF0A-92D8-4A48-A82C-A9DCE0B92F5E.webp
ORGANIZER;CN="CYBRBEATZ":MAILTO:info@cybrbeatz.com
END:VEVENT
END:VCALENDAR