BEGIN:VCALENDAR
VERSION:2.0
PRODID:-//CYBRBEATZ - ECPv6.15.20//NONSGML v1.0//EN
CALSCALE:GREGORIAN
METHOD:PUBLISH
X-ORIGINAL-URL:https://cybrbeatz.com
X-WR-CALDESC:Events for CYBRBEATZ
REFRESH-INTERVAL;VALUE=DURATION:PT1H
X-Robots-Tag:noindex
X-PUBLISHED-TTL:PT1H
BEGIN:VTIMEZONE
TZID:UTC
BEGIN:STANDARD
TZOFFSETFROM:+0000
TZOFFSETTO:+0000
TZNAME:UTC
DTSTART:20240101T000000
END:STANDARD
END:VTIMEZONE
BEGIN:VEVENT
DTSTART;TZID=UTC:20251213T150000
DTEND;TZID=UTC:20251213T170000
DTSTAMP:20260423T194745
CREATED:20250709T170426Z
LAST-MODIFIED:20251125T021207Z
UID:222-1765638000-1765645200@cybrbeatz.com
SUMMARY:TOCNYS Niagara Frontier 'Frunk of Toys' & Worldwide Tesla Christmas Light Show featuring GigaNY Backdrop
DESCRIPTION:Details from Tesla Owners Club New York State: \nSign up to join other Tesla Owners Club New York State members at our annual toy drive\, benefiting Buffalo PAL\, at a special new time on 12/13. Also\, we are proud to announce that CYBRBEATZ.com will be on site to lead a massive Tesla Holiday Light Show finale\, with GigaNY in the background. It’s only $5 to register and participate in the show. Guests are free to attend\, and all EVs are welcome! \n‍Yes\, we are already up to the sixth annual TOCNYS Niagara Frontier Frunks of Toys\, just across the way from GigaNY in South Buffalo. This year will be bigger and more dynamic than ever! \nNot only are we joining forces again with Tesla and Buffalo PAL\, but we are also honored to welcome CYBRBEATZ.com to host a massive Tesla Holiday Light Show after we hand out the gifts.\n‍\nYOU ARE WELCOME TO ARRIVE WITH ANY NUMBER OF NEW\, UNWRAPPED TOYS / GAMES / BOOKS. Also reach out to friends and family who may wish to attend. \n3:00 p.m.: Doors open; Toy Drive begins; Complimentary hot cocoa and Christmas cookies served\n3:30–4:30 PM – Holiday meetup\, photos\, and lineup for the kids!\n4:30 p.m. (sunset): Worldwide @XLightshows.io Christmas Light Show begins\nDue to limited space\, participation for Lightshow vehicles will be capped and requires pre-registration. A $5 RSVP fee per participating vehicle ensures an accurate headcount. USB drive\, and helps organize the show grid. Spectators are free and encouraged to attend.\n‍\nTHANK YOU to Tesla\, Buffalo PAL and CYBRBEATZ.com. And\, as always\, THANK YOU for supporting TOCNYS!\n‍\nAgain\, this SPECIAL EVENT (part of the global XLightshows.io holiday show) is Saturday\, December 13 from 3 p.m. to 5 p.m. \nIMPORTANT: Please register below.
URL:https://cybrbeatz.com/event/buffalo-ny-tesla-light-show/
LOCATION:Tesla of Buffalo\, NY
ATTACH;FMTTYPE=image/webp:https://cybrbeatz.com/wp-content/uploads/2025/11/B013EF9A-F3E5-4A86-8651-21276B6ECD3A.webp
ORGANIZER;CN="CYBRBEATZ":MAILTO:info@cybrbeatz.com
END:VEVENT
END:VCALENDAR