BEGIN:VCALENDAR
VERSION:2.0
PRODID:-//CYBRBEATZ - ECPv6.15.20//NONSGML v1.0//EN
CALSCALE:GREGORIAN
METHOD:PUBLISH
X-WR-CALNAME:CYBRBEATZ
X-ORIGINAL-URL:https://cybrbeatz.com
X-WR-CALDESC:Events for CYBRBEATZ
REFRESH-INTERVAL;VALUE=DURATION:PT1H
X-Robots-Tag:noindex
X-PUBLISHED-TTL:PT1H
BEGIN:VTIMEZONE
TZID:UTC
BEGIN:STANDARD
TZOFFSETFROM:+0000
TZOFFSETTO:+0000
TZNAME:UTC
DTSTART:20240101T000000
END:STANDARD
END:VTIMEZONE
BEGIN:VEVENT
DTSTART;TZID=UTC:20251025T000000
DTEND;TZID=UTC:20251026T235959
DTSTAMP:20260423T230822
CREATED:20250709T180232Z
LAST-MODIFIED:20251001T014129Z
UID:238-1761350400-1761523199@cybrbeatz.com
SUMMARY:SPACE COAST ROCKET FORMATION
DESCRIPTION:
URL:https://cybrbeatz.com/event/tesla-light-show-major-rocket-formation-kennedy-space-center-satellite-education-conference/
LOCATION:Florida
ATTACH;FMTTYPE=image/webp:https://cybrbeatz.com/wp-content/uploads/2025/07/cybrbeatz-video-cover.webp
END:VEVENT
END:VCALENDAR