BEGIN:VCALENDAR
VERSION:2.0
PRODID:-//CYBRBEATZ - ECPv6.15.20//NONSGML v1.0//EN
CALSCALE:GREGORIAN
METHOD:PUBLISH
X-WR-CALNAME:CYBRBEATZ
X-ORIGINAL-URL:https://cybrbeatz.com
X-WR-CALDESC:Events for CYBRBEATZ
REFRESH-INTERVAL;VALUE=DURATION:PT1H
X-Robots-Tag:noindex
X-PUBLISHED-TTL:PT1H
BEGIN:VTIMEZONE
TZID:UTC
BEGIN:STANDARD
TZOFFSETFROM:+0000
TZOFFSETTO:+0000
TZNAME:UTC
DTSTART:20240101T000000
END:STANDARD
END:VTIMEZONE
BEGIN:VEVENT
DTSTART;TZID=UTC:20250920T090000
DTEND;TZID=UTC:20250920T140000
DTSTAMP:20260424T004631
CREATED:20250709T172026Z
LAST-MODIFIED:20250917T181445Z
UID:230-1758358800-1758376800@cybrbeatz.com
SUMMARY:BACKROADS TESLA RALLY 2025
DESCRIPTION:⚡ Calling All Florida Tesla Owners: Epic Backroads Rally – September 20th ⚡\nORLANDO\, FL — September 20th\, 2025 – Florida Tesla owners\, the wait is over. Tesla Bay TV is bringing the community together for an unforgettable rally experience filled with scenic drives\, iconic stops\, and a spectacular finale. \nThis rally is more than a drive—it’s a statement. It’s about showcasing the strength\, creativity\, and passion of the Tesla community across Florida. \n\n🔋 Pre-Meet: Charge & Chill\n9:00 AM – Celebration Superchargers\, Future WayStart the day with a full charge and some camaraderie. This is the casual pre-meet for those who want to fuel up\, meet fellow drivers\, and roll out in style toward Rally Point A. \n\n🚦 Rally Point A: Official Kickoff\n9:45 AM – Dezerland Park OrlandoThe rally officially launches at Dezerland Park Orlando\, where excitement meets horsepower. A Fast & Furious cast member will be on-site\, setting the tone for a high-energy day that blends Hollywood action vibes with Tesla innovation. \n\n🌊 Rally Point B: Scenic Showcase VIDEO SHOOT\n11:30 AM – Ski Beach\, Leesburg\, FLNext stop\, small-town charm with lakefront beauty. The convoy will pause at Ski Beach for a video shoot that captures the Tesla spirit against the backdrop of Florida’s natural beauty. Expect cinematic drone footage\, laughter\, and memories. \n\n🥨 Final Rally Point: Food\, Friends & Light Show\n2:00 PM – Yalaha BakeryThe grand finale unfolds at the famous Yalaha Bakery. Rally participants will enjoy a delicious German-style lunch before gathering for a daytime Tesla light show—a spectacle of synchronized innovation and artistry that only Tesla owners can deliver. \n\n🎟️ Event Details\n\n\nDate: Saturday\, September 20th\, 2025 \n\n\nTime: 9:00 AM – 2:00 PM \n\n\nPre-Meet: Celebration Superchargers (Future Way) – 9:00 AM \n\n\nRally Points: \n\n\nRally Point A: Dezerland Park Orlando – 9:45 AM \n\n\nRally Point B: Ski Beach\, Leesburg – 11:30 AM \n\n\nFinal Rally Point: Yalaha Bakery – 2:00 PM \n\n\n\n\nCost: Free to attend. Rally packs available for $40. \n\n\nSpecial Guest: Fast & Furious cast member at Dezerland Park! \n\n\n\n⚡ Why You Can’t Miss This\nFrom charging up in Celebration to a Hollywood-style kickoff\, to lakefront vibes and a bakery feast with a Tesla light show finale—this rally is set to be the Tesla event of the season. \nFlorida Tesla owners\, this is your call to action. Bring your Model S\, 3\, X\, Y\, or Cybertruck\, and be part of history on September 20th.
URL:https://cybrbeatz.com/event/backroads-sunset-tesla-rally-filming/
LOCATION:Celebation\, FL New Superchargers (Future Way)\, 1725 Future Way\, Kissimmee\, FL\, 34747
ATTACH;FMTTYPE=image/webp:https://cybrbeatz.com/wp-content/uploads/2025/07/cybrbeatz-video-cover.webp
ORGANIZER;CN="CYBRBEATZ":MAILTO:info@cybrbeatz.com
END:VEVENT
END:VCALENDAR