BEGIN:VCALENDAR
VERSION:2.0
PRODID:-//CYBRBEATZ - ECPv6.15.20//NONSGML v1.0//EN
CALSCALE:GREGORIAN
METHOD:PUBLISH
X-WR-CALNAME:CYBRBEATZ
X-ORIGINAL-URL:https://cybrbeatz.com
X-WR-CALDESC:Events for CYBRBEATZ
REFRESH-INTERVAL;VALUE=DURATION:PT1H
X-Robots-Tag:noindex
X-PUBLISHED-TTL:PT1H
BEGIN:VTIMEZONE
TZID:UTC
BEGIN:STANDARD
TZOFFSETFROM:+0000
TZOFFSETTO:+0000
TZNAME:UTC
DTSTART:20240101T000000
END:STANDARD
END:VTIMEZONE
BEGIN:VEVENT
DTSTART;TZID=UTC:20250725T180000
DTEND;TZID=UTC:20250725T220000
DTSTAMP:20260424T034135
CREATED:20250709T170001Z
LAST-MODIFIED:20250709T174532Z
UID:220-1753466400-1753480800@cybrbeatz.com
SUMMARY:Homestead Miami Speedway Tesla Racing
DESCRIPTION:
URL:https://cybrbeatz.com/event/homestead-miami-speedway-tesla-racing/
LOCATION:Florida
ATTACH;FMTTYPE=image/png:https://cybrbeatz.com/wp-content/uploads/2025/05/cybrbeatz-logo-square-grey.png
END:VEVENT
END:VCALENDAR